BEGIN:VCALENDAR
VERSION:2.0
PRODID:-//Cortez - ECPv6.15.20//NONSGML v1.0//EN
CALSCALE:GREGORIAN
METHOD:PUBLISH
X-ORIGINAL-URL:https://www.cortezboston.com
X-WR-CALDESC:Events for Cortez
REFRESH-INTERVAL;VALUE=DURATION:PT1H
X-Robots-Tag:noindex
X-PUBLISHED-TTL:PT1H
BEGIN:VTIMEZONE
TZID:America/New_York
BEGIN:DAYLIGHT
TZOFFSETFROM:-0500
TZOFFSETTO:-0400
TZNAME:EDT
DTSTART:20230312T070000
END:DAYLIGHT
BEGIN:STANDARD
TZOFFSETFROM:-0400
TZOFFSETTO:-0500
TZNAME:EST
DTSTART:20231105T060000
END:STANDARD
BEGIN:DAYLIGHT
TZOFFSETFROM:-0500
TZOFFSETTO:-0400
TZNAME:EDT
DTSTART:20240310T070000
END:DAYLIGHT
BEGIN:STANDARD
TZOFFSETFROM:-0400
TZOFFSETTO:-0500
TZNAME:EST
DTSTART:20241103T060000
END:STANDARD
BEGIN:DAYLIGHT
TZOFFSETFROM:-0500
TZOFFSETTO:-0400
TZNAME:EDT
DTSTART:20250309T070000
END:DAYLIGHT
BEGIN:STANDARD
TZOFFSETFROM:-0400
TZOFFSETTO:-0500
TZNAME:EST
DTSTART:20251102T060000
END:STANDARD
END:VTIMEZONE
BEGIN:VEVENT
DTSTART;TZID=America/New_York:20241122T190000
DTEND;TZID=America/New_York:20241122T235500
DTSTAMP:20260423T121839
CREATED:20240823T140443Z
LAST-MODIFIED:20240823T140443Z
UID:2631-1732302000-1732319700@www.cortezboston.com
SUMMARY:Thieves And Charlatans album release show
DESCRIPTION:Cortez (Release show!) – https://cortezboston.bandcamp.com \nWorshipper – https://worshipper.bandcamp.com \nCurse The Son – https://cursetheson.bandcamp.com \nwith visuals by \nThe Dregs Liquid Light Show \nat Deep Cuts \n$12 advance / $15 day of \nThe taproom opens at 12pm and serves food till 8pm. Come in early and grab a bite to eat! \nThis is an 18+ event\nPresented by Eye Design
URL:https://www.cortezboston.com/gig/thieves-and-charlatans-album-release-show/
LOCATION:Deep Cuts\, 21 Main Street\, Medford\, MA\, 02155\, United States
END:VEVENT
BEGIN:VEVENT
DTSTART;TZID=America/New_York:20240728T130000
DTEND;TZID=America/New_York:20240728T230000
DTSTAMP:20260423T121839
CREATED:20240618T152035Z
LAST-MODIFIED:20240718T193744Z
UID:2613-1722171600-1722207600@www.cortezboston.com
SUMMARY:Grub\, Sweat & Beers
DESCRIPTION:We are playing on Sunday July 28.
URL:https://www.cortezboston.com/gig/grub-sweat-beers/
LOCATION:O’Brien’s Pub\, 3 Harvard Avenue\, Allston\, 02134\, United States
END:VEVENT
BEGIN:VEVENT
DTSTART;TZID=America/New_York:20240518T173000
DTEND;TZID=America/New_York:20240518T235500
DTSTAMP:20260423T121839
CREATED:20240408T164025Z
LAST-MODIFIED:20240408T164025Z
UID:2563-1716053400-1716076500@www.cortezboston.com
SUMMARY:Ripplefest Boston feat King Buffalo\, Blood Lightning\, Mother Iron Horse\, Kind\, Cortez\, Curse The Son
DESCRIPTION:
URL:https://www.cortezboston.com/gig/ripplefest-boston-feat-king-buffalo-blood-lightning-mother-iron-horse-kind-cortez-curse-the-son/
LOCATION:Middle East Downstairs\, 472 Massachusetts Avenue\, Cambridge\, 02139\, United States
END:VEVENT
BEGIN:VEVENT
DTSTART;TZID=America/New_York:20240503T200000
DTEND;TZID=America/New_York:20240503T235500
DTSTAMP:20260423T121839
CREATED:20240408T163449Z
LAST-MODIFIED:20240408T170203Z
UID:2557-1714766400-1714780500@www.cortezboston.com
SUMMARY:Bone Church / Cortez / Mollusk / Black Acid Prophecy - Providence\, RI
DESCRIPTION:
URL:https://www.cortezboston.com/gig/bone-church-cortez-mollusk-black-acid-prophecy/
LOCATION:Alchemy\, 171 Chestnut Street\, Providence\, RI\, 02903\, United States
END:VEVENT
BEGIN:VEVENT
DTSTART;TZID=America/New_York:20240323T190000
DTEND;TZID=America/New_York:20240323T235500
DTSTAMP:20260423T121839
CREATED:20240229T182529Z
LAST-MODIFIED:20240229T182529Z
UID:2546-1711220400-1711238100@www.cortezboston.com
SUMMARY:Sundrifter\, Swamphead\, Cortez
DESCRIPTION:
URL:https://www.cortezboston.com/gig/sundrifter-swamphead-cortez/
LOCATION:Deep Cuts\, 21 Main Street\, Medford\, MA\, 02155\, United States
END:VEVENT
BEGIN:VEVENT
DTSTART;TZID=America/New_York:20240203T180000
DTEND;TZID=America/New_York:20240203T235500
DTSTAMP:20260423T121839
CREATED:20240229T183546Z
LAST-MODIFIED:20240229T183546Z
UID:2554-1706983200-1707004500@www.cortezboston.com
SUMMARY:Black Pyramid\, Cortez\, Benthic Realm\, Strange Highways\, Evil 80
DESCRIPTION:
URL:https://www.cortezboston.com/gig/black-pyramid-cortez-benthic-realm-strange-highways-evil-80/
LOCATION:MA
END:VEVENT
END:VCALENDAR